BEGIN:VCALENDAR
VERSION:2.0
PRODID:-//Our Saviour&#039;s Church, TBS - ECPv6.15.11//NONSGML v1.0//EN
CALSCALE:GREGORIAN
METHOD:PUBLISH
X-WR-CALNAME:Our Saviour&#039;s Church, TBS
X-ORIGINAL-URL:https://osc-tbs.org
X-WR-CALDESC:Events for Our Saviour&#039;s Church, TBS
REFRESH-INTERVAL;VALUE=DURATION:PT1H
X-Robots-Tag:noindex
X-PUBLISHED-TTL:PT1H
BEGIN:VTIMEZONE
TZID:Africa/Lagos
BEGIN:STANDARD
TZOFFSETFROM:+0100
TZOFFSETTO:+0100
TZNAME:WAT
DTSTART:20230101T000000
END:STANDARD
END:VTIMEZONE
BEGIN:VEVENT
DTSTART;VALUE=DATE:20250314
DTEND;VALUE=DATE:20250315
DTSTAMP:20260424T010417
CREATED:20250314T172856Z
LAST-MODIFIED:20250314T172856Z
UID:30735-1741910400-1741996799@osc-tbs.org
SUMMARY:Day 9 Lenten Season
DESCRIPTION:
URL:https://osc-tbs.org/event/day-9-lenten-season/
ATTACH;FMTTYPE=image/jpeg:https://osc-tbs.org/wp-content/uploads/2025/03/IMG-20250314-WA0005.jpg
END:VEVENT
BEGIN:VEVENT
DTSTART;VALUE=DATE:20250313
DTEND;VALUE=DATE:20250314
DTSTAMP:20260424T010417
CREATED:20250314T072431Z
LAST-MODIFIED:20250314T072431Z
UID:30731-1741824000-1741910399@osc-tbs.org
SUMMARY:Day 8 Lenten Diet
DESCRIPTION:
URL:https://osc-tbs.org/event/day-8-lenten-diet/
ATTACH;FMTTYPE=image/jpeg:https://osc-tbs.org/wp-content/uploads/2025/03/IMG-20250313-WA0025.jpg
END:VEVENT
BEGIN:VEVENT
DTSTART;VALUE=DATE:20250313
DTEND;VALUE=DATE:20250314
DTSTAMP:20260424T010417
CREATED:20250314T072311Z
LAST-MODIFIED:20250314T072311Z
UID:30728-1741824000-1741910399@osc-tbs.org
SUMMARY:Day 8 Lenten Season
DESCRIPTION:
URL:https://osc-tbs.org/event/day-8-lenten-season/
ATTACH;FMTTYPE=image/jpeg:https://osc-tbs.org/wp-content/uploads/2025/03/IMG-20250313-WA0024.jpg
END:VEVENT
BEGIN:VEVENT
DTSTART;VALUE=DATE:20250311
DTEND;VALUE=DATE:20250312
DTSTAMP:20260424T010417
CREATED:20250312T061907Z
LAST-MODIFIED:20250312T061907Z
UID:30722-1741651200-1741737599@osc-tbs.org
SUMMARY:Day 7 Lenten Season
DESCRIPTION:
URL:https://osc-tbs.org/event/day-7-lenten-season/
ATTACH;FMTTYPE=image/jpeg:https://osc-tbs.org/wp-content/uploads/2025/03/WhatsApp-Image-2025-03-11-at-10.37.28-1.jpeg
END:VEVENT
BEGIN:VEVENT
DTSTART;TZID=Africa/Lagos:20250310T170000
DTEND;TZID=Africa/Lagos:20250310T190000
DTSTAMP:20260424T010417
CREATED:20250310T143246Z
LAST-MODIFIED:20250310T143246Z
UID:30717-1741626000-1741633200@osc-tbs.org
SUMMARY:Lenten Diet
DESCRIPTION:Loving and gracious God\, we thank You profusely for the opportunity to witness Day 5 of the 2025 Lenten Diet. Open our eyes to see the importance of regular Study of Your Word as one of the tools for our Spiritual growth. \n  \nMeeting ID: 2466318530\nPasscode: Saviours
URL:https://osc-tbs.org/event/lenten-diet/
ATTACH;FMTTYPE=image/jpeg:https://osc-tbs.org/wp-content/uploads/2025/03/WhatsApp-Image-2025-03-10-at-11.04.17.jpeg
END:VEVENT
BEGIN:VEVENT
DTSTART;VALUE=DATE:20250310
DTEND;VALUE=DATE:20250316
DTSTAMP:20260424T010417
CREATED:20250312T062449Z
LAST-MODIFIED:20250312T062449Z
UID:30725-1741564800-1742083199@osc-tbs.org
SUMMARY:Saviours Blessing of The Week
DESCRIPTION:Congratulations! The Lord\, Mighty and Awesome God is with you to order your footsteps and grant you victory always. Have a blessed week.
URL:https://osc-tbs.org/event/saviours-blessing-of-the-week/
ATTACH;FMTTYPE=image/jpeg:https://osc-tbs.org/wp-content/uploads/2025/03/WhatsApp-Image-2025-03-10-at-23.04.56.jpeg
END:VEVENT
BEGIN:VEVENT
DTSTART;VALUE=DATE:20250310
DTEND;VALUE=DATE:20250311
DTSTAMP:20260424T010417
CREATED:20250310T142922Z
LAST-MODIFIED:20250310T142922Z
UID:30714-1741564800-1741651199@osc-tbs.org
SUMMARY:Day 5 Lenten Season
DESCRIPTION:
URL:https://osc-tbs.org/event/day-5-lenten-season/
ATTACH;FMTTYPE=image/jpeg:https://osc-tbs.org/wp-content/uploads/2025/03/WhatsApp-Image-2025-03-10-at-11.04.27.jpeg
END:VEVENT
BEGIN:VEVENT
DTSTART;VALUE=DATE:20250308
DTEND;VALUE=DATE:20250309
DTSTAMP:20260424T010417
CREATED:20250308T115706Z
LAST-MODIFIED:20250308T115706Z
UID:30712-1741392000-1741478399@osc-tbs.org
SUMMARY:Day 4 Lenten Season
DESCRIPTION:
URL:https://osc-tbs.org/event/day-4-lenten-season/
ATTACH;FMTTYPE=image/jpeg:https://osc-tbs.org/wp-content/uploads/2025/03/IMG-20250308-WA0001.jpg
END:VEVENT
BEGIN:VEVENT
DTSTART;TZID=Africa/Lagos:20250307T180000
DTEND;TZID=Africa/Lagos:20250307T193000
DTSTAMP:20260424T010417
CREATED:20250131T172037Z
LAST-MODIFIED:20250301T202535Z
UID:30588-1741370400-1741375800@osc-tbs.org
SUMMARY:Bible Study
DESCRIPTION:  \n  \n  \n  \n  \n 
URL:https://osc-tbs.org/event/bible-study-2/
ATTACH;FMTTYPE=image/jpeg:https://osc-tbs.org/wp-content/uploads/2025/01/IMG-20250130-WA0003.jpg
END:VEVENT
BEGIN:VEVENT
DTSTART;VALUE=DATE:20250307
DTEND;VALUE=DATE:20250308
DTSTAMP:20260424T010417
CREATED:20250307T114752Z
LAST-MODIFIED:20250307T114752Z
UID:30706-1741305600-1741391999@osc-tbs.org
SUMMARY:Day 3 Lenten Season
DESCRIPTION:
URL:https://osc-tbs.org/event/day-3-lenten-season-2/
ATTACH;FMTTYPE=image/jpeg:https://osc-tbs.org/wp-content/uploads/2025/03/IMG-20250307-WA0001.jpg
END:VEVENT
BEGIN:VEVENT
DTSTART;VALUE=DATE:20250306
DTEND;VALUE=DATE:20250307
DTSTAMP:20260424T010417
CREATED:20250307T114531Z
LAST-MODIFIED:20250307T114911Z
UID:30704-1741219200-1741305599@osc-tbs.org
SUMMARY:Day 2 Lenten Season
DESCRIPTION:
URL:https://osc-tbs.org/event/day-3-lenten-season/
ATTACH;FMTTYPE=image/jpeg:https://osc-tbs.org/wp-content/uploads/2025/03/IMG-20250306-WA0005.jpg
END:VEVENT
BEGIN:VEVENT
DTSTART;TZID=Africa/Lagos:20250305T190000
DTEND;TZID=Africa/Lagos:20250305T203000
DTSTAMP:20260424T010417
CREATED:20250131T091422Z
LAST-MODIFIED:20250301T203409Z
UID:30571-1741201200-1741206600@osc-tbs.org
SUMMARY:Women's Fellowship
DESCRIPTION:
URL:https://osc-tbs.org/event/cross-into-february-with-us/
ATTACH;FMTTYPE=image/jpeg:https://osc-tbs.org/wp-content/uploads/2025/01/IMG-20250130-WA0008.jpg
END:VEVENT
BEGIN:VEVENT
DTSTART;VALUE=DATE:20250305
DTEND;VALUE=DATE:20250421
DTSTAMP:20260424T010417
CREATED:20250304T215013Z
LAST-MODIFIED:20250304T215013Z
UID:30696-1741132800-1745193599@osc-tbs.org
SUMMARY:2025 LENTEN SEASON
DESCRIPTION:Beloved\, it’s just 1 day to the commencement of 2025 LENTEN SEASON. We thank God for His mercies. Join us at the Ash Wednesday service 5pm on March 5th\, 2025 to begin the 40Days journey with our Lord Jesus Christ. \nThe Lenten Diet holds 5pm daily excepts Sundays. \nTo join Ash Wednesdays and Wednesday in Lent services\, Kindly join us on Youtube or Facebook. \nOther days: \nZoom Meeting ID: 2466318530 \nPassword: Saviours \nMay we all experience a life transforming encounter with our God this season and always in Jesus name.
URL:https://osc-tbs.org/event/2025-lenten-season/
ATTACH;FMTTYPE=image/jpeg:https://osc-tbs.org/wp-content/uploads/2025/03/IMG-20250304-WA0001.jpg
END:VEVENT
BEGIN:VEVENT
DTSTART;TZID=Africa/Lagos:20250304T170000
DTEND;TZID=Africa/Lagos:20250304T190000
DTSTAMP:20260424T010417
CREATED:20250131T090602Z
LAST-MODIFIED:20250301T203657Z
UID:30567-1741107600-1741114800@osc-tbs.org
SUMMARY:Victory Hour
DESCRIPTION:
URL:https://osc-tbs.org/event/victory-hour/
ATTACH;FMTTYPE=image/jpeg:https://osc-tbs.org/wp-content/uploads/2025/01/IMG-20250130-WA0007.jpg
END:VEVENT
BEGIN:VEVENT
DTSTART;TZID=Africa/Lagos:20250302T070000
DTEND;TZID=Africa/Lagos:20250302T223000
DTSTAMP:20260424T010417
CREATED:20250302T092641Z
LAST-MODIFIED:20250302T092641Z
UID:30690-1740898800-1740954600@osc-tbs.org
SUMMARY:Welcome to the Quinquagesima Sunday Worship
DESCRIPTION:Welcome to March 2025! Steady and significant progress shall be our portion in the mighty name of Jesus Christ.
URL:https://osc-tbs.org/event/welcome-to-the-quinquagesima-sunday-worship/
ATTACH;FMTTYPE=image/jpeg:https://osc-tbs.org/wp-content/uploads/2025/03/facebook_1740906979321_7301893106996790022.jpg
END:VEVENT
BEGIN:VEVENT
DTSTART;TZID=Africa/Lagos:20250228T233000
DTEND;TZID=Africa/Lagos:20250301T010000
DTSTAMP:20260424T010417
CREATED:20250228T101623Z
LAST-MODIFIED:20250228T101623Z
UID:30685-1740785400-1740790800@osc-tbs.org
SUMMARY:Cross-Over into March
DESCRIPTION:Beloved\, we are most grateful to God for the last Day on February 2025. \nJoin us live 11:30pm tonight to crossover to March 2025 in power. \nYou will not know shame in the mighty name of Jesus Christ.
URL:https://osc-tbs.org/event/cross-over-into-march/
ATTACH;FMTTYPE=image/jpeg:https://osc-tbs.org/wp-content/uploads/2025/02/IMG-20250228-WA0002.jpg
END:VEVENT
BEGIN:VEVENT
DTSTART;VALUE=DATE:20250224
DTEND;VALUE=DATE:20250302
DTSTAMP:20260424T010417
CREATED:20250210T213000Z
LAST-MODIFIED:20250225T081043Z
UID:30622-1740355200-1740873599@osc-tbs.org
SUMMARY:Saviour's Blessing for the week
DESCRIPTION:God cares! He will not allow us to call on Him in vain. Through the power of His Word\, receive healing\, deliverance and Divine escape from all evil plans in the mighty name of Jesus Christ. Have a blessed week.
URL:https://osc-tbs.org/event/saviours-blessing-for-the-week-2/
ATTACH;FMTTYPE=image/jpeg:https://osc-tbs.org/wp-content/uploads/2025/02/WhatsApp-Image-2025-02-25-at-07.28.38.jpeg
END:VEVENT
BEGIN:VEVENT
DTSTART;TZID=Africa/Lagos:20250223T070000
DTEND;TZID=Africa/Lagos:20250223T200000
DTSTAMP:20260424T010417
CREATED:20250222T160042Z
LAST-MODIFIED:20250222T160042Z
UID:30668-1740294000-1740340800@osc-tbs.org
SUMMARY:SEXAGESIMA (VESTRY MEETING)
DESCRIPTION:“But He was wounded for our transgressions\, He was bruised for our iniquities; The chastisement for our peace was upon Him\, And by His stripes we are healed.” Isaiah‬ ‭53‬:‭5‬ ‭ \nBeloved\, Join us tomorrow\, 23rd day of February 2025 to honour God our Healer at the 7am and 9am Holy Communion Services and for the vestry meeting after. \nIf you cannot join us physically\, please remember you can stream the service via our social media handles. \nWe look forward to receiving you. Remain blessed always.
URL:https://osc-tbs.org/event/sexagesima-vestry-meeting/
ATTACH;FMTTYPE=image/jpeg:https://osc-tbs.org/wp-content/uploads/2025/02/WhatsApp-Image-2025-02-22-at-14.58.05.jpeg
END:VEVENT
BEGIN:VEVENT
DTSTART;TZID=Africa/Lagos:20250209T070000
DTEND;TZID=Africa/Lagos:20250209T200000
DTSTAMP:20260424T010417
CREATED:20250209T052150Z
LAST-MODIFIED:20250209T054718Z
UID:30617-1739084400-1739131200@osc-tbs.org
SUMMARY:Epiphany 5
DESCRIPTION:“‘If you walk in My statutes and keep My commandments\, and perform them\, then I will give you rain in its season\, the land shall yield its produce\, and the trees of the field shall yield their fruit. I will walk among you and be your God\, and you shall be My people.” Leviticus‬ ‭26‬:‭3‬-‭4‬\, ‭12‬ ‭NKJV‬‬ \nKindly join us tomorrow\, 9th day of February 2025 at the 7am\, 9am and 5pm as we look into how Obedience to God’s word guarantees His Presence for us. \nIf you cannot join us physically\, please remember you can stream the service via our social media handles. \nWatch links: YouTube:\nhttps://www.youtube.com/@osctbs \nFacebook: https://www.facebook.com/osctbs \nWe look forward to receiving you. Remain blessed always.
URL:https://osc-tbs.org/event/epiphany-5/
LOCATION:Our Saviour’s Church\, TBS\, Nigeria
ATTACH;FMTTYPE=image/jpeg:https://osc-tbs.org/wp-content/uploads/2025/02/WhatsApp-Image-2025-02-09-at-5.31.59-AM.jpeg
END:VEVENT
BEGIN:VEVENT
DTSTART;TZID=Africa/Lagos:20250203T063000
DTEND;TZID=Africa/Lagos:20250203T070000
DTSTAMP:20260424T010417
CREATED:20250131T093521Z
LAST-MODIFIED:20250131T093521Z
UID:30578-1738564200-1738566000@osc-tbs.org
SUMMARY:Saviour's Blessing
DESCRIPTION:
URL:https://osc-tbs.org/event/saviours-blessing/
END:VEVENT
BEGIN:VEVENT
DTSTART;TZID=Africa/Lagos:20250202T070000
DTEND;TZID=Africa/Lagos:20250202T200000
DTSTAMP:20260424T010417
CREATED:20250131T094935Z
LAST-MODIFIED:20250202T112614Z
UID:30582-1738479600-1738526400@osc-tbs.org
SUMMARY:EPIPHANY 4 Sunday Family Worship
DESCRIPTION:All glory\, honour and adoration to God for new month and His mercies upon us. We welcome you to the first Sunday in the Month of February 2025. \nKindly join us tomorrow\, 2nd day of February 2025 at 7am\, 9am and 5pm as we are reminded of the full package of blessings that accompany the trust in the power and authority of our Lord Jesus Christ. \nIf you cannot join us physically\, please remember you can stream the service via our social media handles. \nYouTube:\nhttps://www.youtube.com/@osctbs \nFacebook: https://www.facebook.com/osctbs \nWe look forward to receiving you. Remain blessed always.
URL:https://osc-tbs.org/event/epiphany-4-sunday-family-worship/
END:VEVENT
BEGIN:VEVENT
DTSTART;TZID=Africa/Lagos:20250131T234500
DTEND;TZID=Africa/Lagos:20250201T010000
DTSTAMP:20260424T010417
CREATED:20250131T095230Z
LAST-MODIFIED:20250131T172603Z
UID:30586-1738367100-1738371600@osc-tbs.org
SUMMARY:Cross Into February with Us
DESCRIPTION:
URL:https://osc-tbs.org/event/cross-into-february-with-us-2/
END:VEVENT
BEGIN:VEVENT
DTSTART;TZID=Africa/Lagos:20250128T080000
DTEND;TZID=Africa/Lagos:20250128T170000
DTSTAMP:20260424T010417
CREATED:20250128T090617Z
LAST-MODIFIED:20250128T090617Z
UID:30497-1738051200-1738083600@osc-tbs.org
SUMMARY:Saviour's Blessing for the Week
DESCRIPTION:There is no cause for any alarm for you this year. God is committed to completing the good work He commenced in your live. Have a blessed week.
URL:https://osc-tbs.org/event/saviours-blessing-for-the-week/
ATTACH;FMTTYPE=image/jpeg:https://osc-tbs.org/wp-content/uploads/2025/01/IMG-20250127-WA0013.jpg
END:VEVENT
BEGIN:VEVENT
DTSTART;TZID=Africa/Lagos:20241001T073000
DTEND;TZID=Africa/Lagos:20241001T120000
DTSTAMP:20260424T010417
CREATED:20240819T105730Z
LAST-MODIFIED:20240819T105730Z
UID:30431-1727767800-1727784000@osc-tbs.org
SUMMARY:2024 Diocesan Prayer Walk
DESCRIPTION:Don’t miss this program. Let us pray for a better nation together!
URL:https://osc-tbs.org/event/2024-diocesan-prayer-walk/
LOCATION:Diocese of Lagos Centenary City\, Ibeju Lekki\, Ibeju-Lekki\, Lagos\, Nigeria
ATTACH;FMTTYPE=image/png:https://osc-tbs.org/wp-content/uploads/2024/08/PRAYER-WALK-2024-WATCH-OUT.png
END:VEVENT
BEGIN:VEVENT
DTSTART;TZID=Africa/Lagos:20240828T070000
DTEND;TZID=Africa/Lagos:20240828T120000
DTSTAMP:20260424T010417
CREATED:20240819T103750Z
LAST-MODIFIED:20240822T095826Z
UID:30427-1724828400-1724846400@osc-tbs.org
SUMMARY:Election\, Consecration & Enthronement 1st Anniversary Thanksgiving
DESCRIPTION:You are specially invited to celebrate with our Lord Bishop and Mama Lagos\, The Rt. Rev. Dr. Ifedola Senasu Gabriel and Mrs. Modupe Roseline Okupevi.
URL:https://osc-tbs.org/event/election-consecration-enthronement-1st-anniversary-thanksgiving/
LOCATION:Cathedral Church of Christ\, Marina\, Lagos\, Lagos\, Nigeria
ATTACH;FMTTYPE=image/png:https://osc-tbs.org/wp-content/uploads/2024/08/ENTRONEMENT-ANNIVERSARY-1.png
END:VEVENT
BEGIN:VEVENT
DTSTART;TZID=Africa/Lagos:20240811T160000
DTEND;TZID=Africa/Lagos:20240811T183000
DTSTAMP:20260424T010417
CREATED:20240809T214458Z
LAST-MODIFIED:20240809T214458Z
UID:30410-1723392000-1723401000@osc-tbs.org
SUMMARY:Children Musical Concert
DESCRIPTION:
URL:https://osc-tbs.org/event/children-musical-concert/
LOCATION:Our Saviour’s Church\, TBS\, Nigeria
ATTACH;FMTTYPE=image/jpeg:https://osc-tbs.org/wp-content/uploads/2024/08/OSC-TBS-Children-Musical-Ministry.jpg
END:VEVENT
END:VCALENDAR